BEGIN:VCALENDAR
VERSION:2.0
PRODID:-//Men Of Faith - ECPv6.15.17.1//NONSGML v1.0//EN
CALSCALE:GREGORIAN
METHOD:PUBLISH
X-WR-CALNAME:Men Of Faith
X-ORIGINAL-URL:https://men-of-faith.ca
X-WR-CALDESC:Events for Men Of Faith
REFRESH-INTERVAL;VALUE=DURATION:PT1H
X-Robots-Tag:noindex
X-PUBLISHED-TTL:PT1H
BEGIN:VTIMEZONE
TZID:America/Toronto
BEGIN:DAYLIGHT
TZOFFSETFROM:-0500
TZOFFSETTO:-0400
TZNAME:EDT
DTSTART:20250309T070000
END:DAYLIGHT
BEGIN:STANDARD
TZOFFSETFROM:-0400
TZOFFSETTO:-0500
TZNAME:EST
DTSTART:20251102T060000
END:STANDARD
BEGIN:DAYLIGHT
TZOFFSETFROM:-0500
TZOFFSETTO:-0400
TZNAME:EDT
DTSTART:20260308T070000
END:DAYLIGHT
BEGIN:STANDARD
TZOFFSETFROM:-0400
TZOFFSETTO:-0500
TZNAME:EST
DTSTART:20261101T060000
END:STANDARD
BEGIN:DAYLIGHT
TZOFFSETFROM:-0500
TZOFFSETTO:-0400
TZNAME:EDT
DTSTART:20270314T070000
END:DAYLIGHT
BEGIN:STANDARD
TZOFFSETFROM:-0400
TZOFFSETTO:-0500
TZNAME:EST
DTSTART:20271107T060000
END:STANDARD
END:VTIMEZONE
BEGIN:VEVENT
DTSTART;TZID=America/Toronto:20260412T083000
DTEND;TZID=America/Toronto:20260412T100000
DTSTAMP:20260422T181832
CREATED:20260322T210609Z
LAST-MODIFIED:20260322T210609Z
UID:106-1775982600-1775988000@men-of-faith.ca
SUMMARY:Men's Breakfast
DESCRIPTION:
URL:https://men-of-faith.ca/event/mens-breakfast-4/
LOCATION:First Baptist Church\, 20 Centre Street\, Strathroy\, Ontario\, N7G 1T6\, Canada
END:VEVENT
END:VCALENDAR