BEGIN:VCALENDAR
VERSION:2.0
PRODID:-//Men Of Faith - ECPv6.15.17.1//NONSGML v1.0//EN
CALSCALE:GREGORIAN
METHOD:PUBLISH
X-ORIGINAL-URL:https://men-of-faith.ca
X-WR-CALDESC:Events for Men Of Faith
REFRESH-INTERVAL;VALUE=DURATION:PT1H
X-Robots-Tag:noindex
X-PUBLISHED-TTL:PT1H
BEGIN:VTIMEZONE
TZID:America/Toronto
BEGIN:DAYLIGHT
TZOFFSETFROM:-0500
TZOFFSETTO:-0400
TZNAME:EDT
DTSTART:20240310T070000
END:DAYLIGHT
BEGIN:STANDARD
TZOFFSETFROM:-0400
TZOFFSETTO:-0500
TZNAME:EST
DTSTART:20241103T060000
END:STANDARD
BEGIN:DAYLIGHT
TZOFFSETFROM:-0500
TZOFFSETTO:-0400
TZNAME:EDT
DTSTART:20250309T070000
END:DAYLIGHT
BEGIN:STANDARD
TZOFFSETFROM:-0400
TZOFFSETTO:-0500
TZNAME:EST
DTSTART:20251102T060000
END:STANDARD
BEGIN:DAYLIGHT
TZOFFSETFROM:-0500
TZOFFSETTO:-0400
TZNAME:EDT
DTSTART:20260308T070000
END:DAYLIGHT
BEGIN:STANDARD
TZOFFSETFROM:-0400
TZOFFSETTO:-0500
TZNAME:EST
DTSTART:20261101T060000
END:STANDARD
BEGIN:DAYLIGHT
TZOFFSETFROM:-0500
TZOFFSETTO:-0400
TZNAME:EDT
DTSTART:20270314T070000
END:DAYLIGHT
BEGIN:STANDARD
TZOFFSETFROM:-0400
TZOFFSETTO:-0500
TZNAME:EST
DTSTART:20271107T060000
END:STANDARD
END:VTIMEZONE
BEGIN:VEVENT
DTSTART;TZID=America/Toronto:20260412T083000
DTEND;TZID=America/Toronto:20260412T100000
DTSTAMP:20260419T195330
CREATED:20260322T210609Z
LAST-MODIFIED:20260322T210609Z
UID:106-1775982600-1775988000@men-of-faith.ca
SUMMARY:Men's Breakfast
DESCRIPTION:
URL:https://men-of-faith.ca/event/mens-breakfast-4/
LOCATION:First Baptist Church\, 20 Centre Street\, Strathroy\, Ontario\, N7G 1T6\, Canada
END:VEVENT
BEGIN:VEVENT
DTSTART;TZID=America/Toronto:20260314T083000
DTEND;TZID=America/Toronto:20260314T100000
DTSTAMP:20260419T195330
CREATED:20260224T030135Z
LAST-MODIFIED:20260224T033745Z
UID:93-1773477000-1773482400@men-of-faith.ca
SUMMARY:Men's Breakfast
DESCRIPTION:Please join us for our men’s breakfast. We are going to have a guest speaker talk to us about finances from a Godly point of view
URL:https://men-of-faith.ca/event/mens-breakfast-3/
LOCATION:First Baptist Church\, 20 Centre Street\, Strathroy\, Ontario\, N7G 1T6\, Canada
END:VEVENT
BEGIN:VEVENT
DTSTART;TZID=America/Toronto:20260214T083000
DTEND;TZID=America/Toronto:20260214T103000
DTSTAMP:20260419T195330
CREATED:20260122T000540Z
LAST-MODIFIED:20260122T000540Z
UID:89-1771057800-1771065000@men-of-faith.ca
SUMMARY:Men's Breakfast
DESCRIPTION:Please join us for our men’s breakfast at 8:30.
URL:https://men-of-faith.ca/event/mens-breakfast-2/
LOCATION:First Baptist Church\, 20 Centre Street\, Strathroy\, Ontario\, N7G 1T6\, Canada
END:VEVENT
BEGIN:VEVENT
DTSTART;TZID=America/Toronto:20251213T083000
DTEND;TZID=America/Toronto:20251213T103000
DTSTAMP:20260419T195330
CREATED:20251204T224005Z
LAST-MODIFIED:20251204T224005Z
UID:69-1765614600-1765621800@men-of-faith.ca
SUMMARY:Men's Breakfast
DESCRIPTION:
URL:https://men-of-faith.ca/event/mens-breakfast/
LOCATION:First Baptist Church\, 20 Centre Street\, Strathroy\, Ontario\, N7G 1T6\, Canada
END:VEVENT
END:VCALENDAR